BEGIN:VCALENDAR
VERSION:2.0
PRODID:-//RSVP Pass - ECPv6.7.0//NONSGML v1.0//EN
CALSCALE:GREGORIAN
METHOD:PUBLISH
X-ORIGINAL-URL:https://rsvptest.pruebalucuma.site
X-WR-CALDESC:Events for RSVP Pass
REFRESH-INTERVAL;VALUE=DURATION:PT1H
X-Robots-Tag:noindex
X-PUBLISHED-TTL:PT1H
BEGIN:VTIMEZONE
TZID:America/New_York
BEGIN:DAYLIGHT
TZOFFSETFROM:-0500
TZOFFSETTO:-0400
TZNAME:EDT
DTSTART:20240310T070000
END:DAYLIGHT
BEGIN:STANDARD
TZOFFSETFROM:-0400
TZOFFSETTO:-0500
TZNAME:EST
DTSTART:20241103T060000
END:STANDARD
END:VTIMEZONE
BEGIN:VEVENT
DTSTART;VALUE=DATE:20241004
DTEND;VALUE=DATE:20241005
DTSTAMP:20260421T091923
CREATED:20240925T011240Z
LAST-MODIFIED:20241002T234133Z
UID:10000227-1728000000-1728086399@rsvptest.pruebalucuma.site
SUMMARY:Orlando Salsa Festival
DESCRIPTION:The Orlando Salsa Festival in 2024 is set to be an unforgettable celebration of Latin music and dance. Hosted at the Kia Center in Orlando\, this festival brings together salsa enthusiasts from all over to experience the vibrant rhythms and lively atmosphere that only a salsa festival can provide. Whether you’re a seasoned dancer or just love the music\, this event offers a unique opportunity to immerse yourself in the rich culture of salsa. With top-notch performers and an energetic crowd\, the Orlando Salsa Festival promises a day full of dancing\, music\, and unforgettable memories in the heart of Orlando. \nOrlando Salsa Festival Promo Code 2024\nLooking to save on your tickets to the Orlando Salsa Festival? Keep an eye out for promo codes that might be released as the event date approaches. These promo codes can offer discounts on both General Admission and VIP Tickets\, making it easier to enjoy all the festival has to offer without breaking the bank. Be sure to check the official festival website and social media channels for the latest updates and promotions. Using a promo code is a great way to enhance your festival experience while keeping your budget in check. \nOrlando Salsa Festival VIP Tickets\nUpgrade your experience at the Orlando Salsa Festival with VIP Tickets. These exclusive tickets provide you with premium access\, including the best seating areas\, priority entry\, and possibly even special amenities like private bars or lounges. VIP Tickets are perfect for those who want to enjoy the festival in style\, offering a more comfortable and luxurious way to experience the vibrant atmosphere of the Kia Center. Whether you’re a hardcore salsa fan or just looking to enjoy the event with added perks\, VIP Tickets are the way to go for an unforgettable experience. \nOrlando Salsa Festival General Admission Tickets\nGeneral Admission Tickets to the Orlando Salsa Festival give you access to all the exciting performances and activities happening at the Kia Center. These tickets are ideal for anyone who wants to immerse themselves in the salsa experience\, whether you’re coming with friends\, family\, or on your own. With General Admission\, you’ll be able to enjoy the full lineup of performances and dance your heart out alongside other salsa enthusiasts. It’s the perfect way to be part of this vibrant celebration of music and dance in Orlando. \nOrlando Salsa Festival 2024\nThe Orlando Salsa Festival 2024 is more than just an event—it’s a celebration of culture\, community\, and the infectious energy of salsa music. Taking place at the Kia Center\, this festival brings together some of the best salsa performers and dance enthusiasts from around the region. Whether you’re new to salsa or a seasoned pro\, this festival offers something for everyone\, from live music to dance floors where you can show off your moves. Join us in Orlando for a day of non-stop rhythm and fun at the 2024 Orlando Salsa Festival. \nOrlando Salsa Festival Organizer\nThe Orlando Salsa Festival is brought to you by a dedicated team of organizers who are passionate about promoting Latin culture and music. Their commitment to excellence ensures that every aspect of the festival is top-notch\, from the performers to the venue setup at the Kia Center. The organizers work tirelessly to create a welcoming and vibrant environment where everyone can enjoy the rich traditions of salsa music and dance. Thanks to their efforts\, the Orlando Salsa Festival has become a must-attend event for salsa lovers in Orlando and beyond. \nOrlando Salsa Festival Venue\nThe Kia Center in Orlando serves as the perfect venue for the Orlando Salsa Festival. Known for its state-of-the-art facilities and central location\, the Kia Center provides an ideal setting for a festival of this caliber. Attendees can expect excellent acoustics\, comfortable seating\, and a lively atmosphere that enhances the overall experience. Whether you’re coming for the music\, the dancing\, or just to soak in the atmosphere\, the Kia Center offers everything you need to enjoy the Orlando Salsa Festival to the fullest. \nPlaces to stay near Orlando Salsa Festival\nIf you’re attending the Orlando Salsa Festival from out of town\, there are plenty of accommodation options near the Kia Center. From luxurious hotels to budget-friendly motels\, you’ll find a variety of places to stay that cater to all preferences and budgets. Staying close to the venue ensures that you can fully enjoy the festival without worrying about long commutes. Book your accommodations early to secure the best rates and enjoy the convenience of being just minutes away from all the festival action. \nOrlando Salsa Festival transportation\nGetting to the Kia Center for the Orlando Salsa Festival is easy with several transportation options available. Whether you prefer to drive\, use public transportation\, or take a rideshare service\, you’ll find convenient ways to reach the venue. Public transportation is an eco-friendly option\, while rideshares offer the convenience of door-to-door service. Whichever method you choose\, planning your transportation in advance will ensure a smooth and enjoyable festival experience. \nOrlando Salsa Festival parking\nParking near the Kia Center is available for those attending the Orlando Salsa Festival. Several parking lots and garages are located within walking distance of the venue\, offering both hourly and daily rates. It’s recommended to arrive early to secure a spot\, especially during peak festival hours. If you prefer not to drive\, consider using public transportation or a rideshare service to avoid the hassle of parking. With a little planning\, you can enjoy the festival without any parking-related stress. \nOrlando Salsa Festival directions\nFinding your way to the Kia Center in Orlando for the Orlando Salsa Festival is simple\, with several convenient routes available. Whether you’re driving\, using public transportation\, or taking a rideshare service\, you’ll find that the venue is easily accessible. Be sure to check your route in advance and allow extra time for potential traffic. GPS and map services can provide real-time directions\, helping you arrive at the festival on time and ready to enjoy the music and dancing. \nOrlando Salsa Festival map\nA map of the Orlando Salsa Festival will be available closer to the event date\, helping attendees navigate the Kia Center and its surroundings. The map will highlight key areas such as entrances\, restrooms\, and concessions\, ensuring that you can easily find your way around. Having a map on hand will enhance your festival experience\, allowing you to make the most of your time at the event. Be sure to check for updates and download the map before heading to the festival. \nOrlando Salsa Festival Guest List\nJoining the guest list for the Orlando Salsa Festival is a great way to enjoy exclusive benefits such as priority entry and access to special areas within the Kia Center. Whether you’ve been invited by an artist or secured a spot through a promotion\, being on the guest list enhances your festival experience with added perks. Keep an eye out for opportunities to join the guest list and enjoy the festival in style and comfort\, making your time at the Orlando Salsa Festival even more memorable. \nOrlando Salsa Festival VIP Bottle Service\nElevate your experience at the Orlando Salsa Festival with VIP Bottle Service\, offering a luxurious and exclusive way to enjoy the event at the Kia Center. This service includes a private table\, dedicated staff\, and a selection of premium beverages\, making your time at the festival truly special. Whether you’re celebrating a special occasion or simply want to enjoy the festival in style\, VIP Bottle Service provides the perfect setting for an unforgettable experience. It’s the ultimate way to enjoy the festival with added comfort and exclusivity. \nOrlando Salsa Festival Merchandise\nTake home a piece of the Orlando Salsa Festival with official festival merchandise. Available at the Kia Center\, you’ll find a variety of items including T-shirts\, hats\, and posters that commemorate your festival experience. Festival merchandise is a great way to show your support for the event and keep the memories alive long after the music has ended. Be sure to visit the merchandise stands early to get your favorite items before they sell out and take a piece of the Orlando Salsa Festival with you.
URL:https://rsvptest.pruebalucuma.site/event/orlando-salsa-festival/
LOCATION:Kia Center\, 400 W Church St #200 Orlando\, FL 32801\, FL\, United States
ATTACH;FMTTYPE=image/jpeg:https://rsvptest.pruebalucuma.site/wp-content/uploads/2024/08/Orlando-Salsa-Festival.jpg
END:VEVENT
END:VCALENDAR