BEGIN:VCALENDAR
VERSION:2.0
PRODID:-//RSVP Pass - ECPv6.7.0//NONSGML v1.0//EN
CALSCALE:GREGORIAN
METHOD:PUBLISH
X-ORIGINAL-URL:https://rsvptest.pruebalucuma.site
X-WR-CALDESC:Events for RSVP Pass
REFRESH-INTERVAL;VALUE=DURATION:PT1H
X-Robots-Tag:noindex
X-PUBLISHED-TTL:PT1H
BEGIN:VTIMEZONE
TZID:America/New_York
BEGIN:DAYLIGHT
TZOFFSETFROM:-0500
TZOFFSETTO:-0400
TZNAME:EDT
DTSTART:20240310T070000
END:DAYLIGHT
BEGIN:STANDARD
TZOFFSETFROM:-0400
TZOFFSETTO:-0500
TZNAME:EST
DTSTART:20241103T060000
END:STANDARD
END:VTIMEZONE
BEGIN:VEVENT
DTSTART;VALUE=DATE:20241005
DTEND;VALUE=DATE:20241006
DTSTAMP:20260423T080207
CREATED:20240925T011243Z
LAST-MODIFIED:20241002T234249Z
UID:10000254-1728086400-1728172799@rsvptest.pruebalucuma.site
SUMMARY:The Voices of Rock Radio
DESCRIPTION:The Voices of Rock Radio in Elkhart 2024 is an event that promises to be a spectacular celebration of rock music. Set against the backdrop of The Lerner\, this festival brings together some of the most iconic voices in rock\, offering fans a unique opportunity to experience their favorite hits live. The atmosphere will be electric as legendary performers take the stage\, making this an unforgettable experience for rock enthusiasts. Whether you’re a long-time fan or new to the genre\, The Voices of Rock Radio in Elkhart is an event you won’t want to miss in 2024. \nThe Voices of Rock Radio Promo Code 2024\nLooking to save on tickets to The Voices of Rock Radio in Elkhart? Keep an eye out for promo codes that may be available closer to the event. Promo codes can offer discounts on VIP and General Admission tickets\, making this rock-filled event even more accessible. Stay updated by checking the event’s official website and social media channels regularly\, as these discounts can make a big difference. Don’t miss the chance to rock out at The Lerner while saving some cash with a handy promo code. \nThe Voices of Rock Radio VIP Tickets\nFor the ultimate rock experience\, VIP Tickets to The Voices of Rock Radio in Elkhart are the way to go. These tickets provide exclusive access to premium seating areas\, ensuring you get the best views of the stage. In addition to priority entry\, VIP guests can enjoy special amenities that enhance the overall concert experience. If you’re looking to enjoy the event in style and comfort\, VIP Tickets are your best bet. Immerse yourself in the music with an upgraded experience that’s perfect for true rock fans. \nThe Voices of Rock Radio General Admission Tickets\nGeneral Admission Tickets for The Voices of Rock Radio offer full access to the festival\, allowing you to enjoy all the live performances at The Lerner in Elkhart. These tickets are ideal for those who want to be part of the action and soak in the atmosphere without the added cost of VIP perks. Whether you’re coming with friends or enjoying the festival solo\, General Admission ensures you can enjoy every moment of this rock-filled event. Join the crowd and let the music take over at The Voices of Rock Radio 2024. \nThe Voices of Rock Radio 2024\nThe Voices of Rock Radio 2024 is set to be an epic event at The Lerner in Elkhart. This festival will bring together some of the most iconic voices in rock\, offering a day filled with powerful performances and classic hits. With its rich musical history\, Elkhart provides the perfect setting for this celebration of rock. Whether you’re a die-hard fan or just love live music\, The Voices of Rock Radio is an event that promises to deliver an unforgettable experience. Get ready to rock out in 2024 at this must-see festival. \nThe Voices of Rock Radio Organizer\nThe Voices of Rock Radio festival is organized by a team of music enthusiasts who are passionate about bringing top-tier rock performances to Elkhart. With a commitment to delivering an unforgettable experience for both artists and fans\, the organizers work tirelessly to ensure every detail is perfect. From selecting the lineup to coordinating the event logistics\, their dedication to the craft is evident in every aspect of the festival. Thanks to their efforts\, The Voices of Rock Radio has become a highly anticipated event in the rock music community. \nThe Voices of Rock Radio Venue\nThe Lerner in Elkhart serves as the iconic venue for The Voices of Rock Radio festival. Known for its stunning architecture and excellent acoustics\, The Lerner is the perfect setting for a rock concert of this magnitude. With its rich history and modern amenities\, the venue offers an exceptional experience for both performers and attendees. Whether you’re enjoying the concert from the floor or the balcony\, The Lerner provides an intimate yet powerful atmosphere that enhances every note and lyric. \nPlaces to stay near The Voices of Rock Radio\nIf you’re planning to stay overnight for The Voices of Rock Radio festival in Elkhart\, there are several accommodation options nearby. From cozy bed and breakfasts to modern hotels\, you’ll find a range of places to suit your needs. Staying close to The Lerner means you can enjoy the festival without worrying about long travel times\, making your experience even more enjoyable. Book your stay early to secure the best rates and locations\, and make the most of your time in Elkhart. \nThe Voices of Rock Radio transportation\nGetting to The Lerner for The Voices of Rock Radio festival is easy\, with several transportation options available. Whether you prefer to drive\, take public transit\, or use a rideshare service\, you’ll find convenient ways to reach the venue. Parking is available nearby\, but spaces can fill up quickly\, so consider arriving early or using alternative transportation to avoid the hassle. Plan your journey in advance to ensure a smooth and stress-free experience at the festival. \nThe Voices of Rock Radio parking\nParking for The Voices of Rock Radio at The Lerner is available but can be limited\, especially during peak times. Attendees are encouraged to arrive early to secure a spot or explore alternative transportation options like rideshares or public transit. The venue offers convenient parking options close to the event\, making it easy to get to and from the festival. If you plan to drive\, be sure to check for parking availability and plan accordingly to make your experience as smooth as possible. \nThe Voices of Rock Radio directions\nFinding your way to The Lerner for The Voices of Rock Radio is simple\, with clear signage and easy-to-follow directions available. Whether you’re driving or taking public transit\, you’ll have no trouble reaching the venue. For those using GPS\, enter The Lerner\, Elkhart as your destination\, and follow the directions provided. If you’re unfamiliar with the area\, consider allowing extra time for your journey to ensure you arrive on time and ready to rock. \nThe Voices of Rock Radio map\nA detailed map of The Voices of Rock Radio festival at The Lerner will be available closer to the event date\, helping attendees navigate the venue. The map will highlight key areas such as entrances\, seating sections\, restrooms\, and merchandise booths\, ensuring you can easily find your way around. Having a map on hand will enhance your festival experience\, allowing you to plan your day and make the most of your time at the event. Be sure to check the festival website for updates on the map and other important details. \nThe Voices of Rock Radio Guest List\nBeing on the guest list for The Voices of Rock Radio comes with exclusive perks\, including priority entry and access to special areas within The Lerner. Whether you’ve been invited by an artist or secured your spot through a promotion\, being on the guest list adds an extra level of excitement to your festival experience. Enjoy the VIP treatment and make your time at The Voices of Rock Radio even more memorable. Keep an eye out for guest list opportunities as the event date approaches. \nThe Voices of Rock Radio VIP Bottle Service\nElevate your experience at The Voices of Rock Radio with VIP Bottle Service. This premium option offers a private table\, dedicated service\, and a selection of top-shelf beverages\, making it the perfect way to enjoy the festival in style. Whether you’re celebrating a special occasion or just want to indulge in a luxurious experience\, VIP Bottle Service at The Lerner is the ultimate way to enjoy the concert. Reserve your spot early to ensure you don’t miss out on this exclusive offering. \nThe Voices of Rock Radio Merchandise\nTake home a piece of The Voices of Rock Radio with official festival merchandise available at the event. From T-shirts and hoodies to posters and collectibles\, there’s something for every rock fan. Festival merchandise makes for great souvenirs or gifts\, allowing you to relive the memories of this incredible event long after it’s over. Be sure to visit the merchandise booths early to grab your favorite items before they sell out\, and bring home a piece of the rock magic from The Lerner.
URL:https://rsvptest.pruebalucuma.site/event/the-voices-of-rock-radio/
LOCATION:The Lerner Theatre\, 410 S Main St\, Elkhart\, IN 46516\, IN\, United States
ATTACH;FMTTYPE=image/jpeg:https://rsvptest.pruebalucuma.site/wp-content/uploads/2024/08/The-Voices-of-Rock-Radio.jpg
END:VEVENT
END:VCALENDAR